BEGIN:VCALENDAR
VERSION:2.0
PRODID:-//White Lake Golf Club - Whitehall, MI - ECPv6.15.20//NONSGML v1.0//EN
CALSCALE:GREGORIAN
METHOD:PUBLISH
X-ORIGINAL-URL:https://www.whitelakegolfclub.com
X-WR-CALDESC:Events for White Lake Golf Club - Whitehall, MI
REFRESH-INTERVAL;VALUE=DURATION:PT1H
X-Robots-Tag:noindex
X-PUBLISHED-TTL:PT1H
BEGIN:VTIMEZONE
TZID:America/Detroit
BEGIN:DAYLIGHT
TZOFFSETFROM:-0500
TZOFFSETTO:-0400
TZNAME:EDT
DTSTART:20250309T070000
END:DAYLIGHT
BEGIN:STANDARD
TZOFFSETFROM:-0400
TZOFFSETTO:-0500
TZNAME:EST
DTSTART:20251102T060000
END:STANDARD
BEGIN:DAYLIGHT
TZOFFSETFROM:-0500
TZOFFSETTO:-0400
TZNAME:EDT
DTSTART:20260308T070000
END:DAYLIGHT
BEGIN:STANDARD
TZOFFSETFROM:-0400
TZOFFSETTO:-0500
TZNAME:EST
DTSTART:20261101T060000
END:STANDARD
BEGIN:DAYLIGHT
TZOFFSETFROM:-0500
TZOFFSETTO:-0400
TZNAME:EDT
DTSTART:20270314T070000
END:DAYLIGHT
BEGIN:STANDARD
TZOFFSETFROM:-0400
TZOFFSETTO:-0500
TZNAME:EST
DTSTART:20271107T060000
END:STANDARD
END:VTIMEZONE
BEGIN:VEVENT
DTSTART;TZID=America/Detroit:20260505T000000
DTEND;TZID=America/Detroit:20260505T235959
DTSTAMP:20260424T113403
CREATED:20260202T213558Z
LAST-MODIFIED:20260202T224037Z
UID:10000040-1777939200-1778025599@www.whitelakegolfclub.com
SUMMARY:First Tee Golf Marathon – open tee times all day  - Pavilion Event
DESCRIPTION:
URL:https://www.whitelakegolfclub.com/event/first-tee-golf-marathon-open-tee-times-all-day-pavilion-event/
CATEGORIES:Events
END:VEVENT
END:VCALENDAR